Workbook

Sheet 使い方
B2: 備品貸出管理表（テンプレート）
B3: 配布: Werp™（https://werp.in/） 版: 2026-09 自由に改変・社内配布してかまいません
B5: このファイルでできること
B6: ・備品台帳に備品を登録し、貸出記録に「誰が・いつ・何を・いつまで」借りたかを書きます。
B7: ・備品台帳の「状態」「借りている人」「返却予定」は、貸出記録から自動で表示されます（手で書き換えません）。
B8: ・返却予定日を過ぎても返却日が空の行は、赤く表示されます。
B10: 入力する欄
B11: ・薄い黄色の欄だけを入力します。灰色の欄は数式なので、消したり上書きしたりしないでください。
B12: ・管理番号は備品ごとに重複しない番号にします（例: CAM-01）。貸出記録ではプルダウンから選べます。
B13: ・日付は 2026/9/25 のように入力します。
B15: 使い方
B16: 1. 「備品台帳」の例の行（5行）を消して、自社の備品を入力します。
... B28: 備品の貸出管理表の作り方と、続けるための運用（Werp™ ブログ）: https://werp.in/lp/blog/equipment-checkout-sheet-template

Sheet 備品台帳
A1: 備品台帳 | F1: 貸出中 | G1: =COUNTIF($F$5:$F$204,"貸出中")+COUNTIF($F$5:$F$204,"返却遅れ") -> 2 | H1: 返却遅れ | I1: =COUNTIF($F$5:$F$204,"返却遅れ") -> 1
A2: 黄色の欄を入力。灰色の欄（状態・借りている人・返却予定）は貸出記録から自動で出ます。
A4: 管理番号 | B4: 品名 | C4: 型番 | D4: カテゴリ | E4: 保管場所 | F4: 状態 | G4: 借りている人 | H4: 返却予定 | I4: 備考
A5: CAM-01 | B5: シネマカメラ | C5: （型番） | D5: カメラ | E5: 機材庫A 棚1 | F5: =IF($A5="","",IF(ISNA(MATCH($A5,貸出記録!$J$5:$J$504,0)),"貸出可",IF(INDEX(貸出記録!$F$5:$F$504,MATCH($A5,貸出記録!$J$5:$J$504,0))<TODAY(),"返却遅れ","貸出中"))) -> 貸出可 | G5: =IF($A5="","",IF(ISNA(MATCH($A5,貸出記録!$J$5:$J$504,0)),"",INDEX(貸出記録!$D$5:$D$504,MATCH($A5,貸出記録!$J$5:$J$504,0)))) | H5: =IF($A5="","",IF(ISNA(MATCH($A5,貸出記録!$J$5:$J$504,0)),"",INDEX(貸出記録!$F$5:$F$504,MATCH($A5,貸出記録!$J$5:$J$504,0))))
A6: LEN-01 | B6: 標準ズームレンズ | C6: （型番） | D6: レンズ | E6: 機材庫A 棚2 | F6: =IF($A6="","",IF(ISNA(MATCH($A6,貸出記録!$J$5:$J$504,0)),"貸出可",IF(INDEX(貸出記録!$F$5:$F$504,MATCH($A6,貸出記録!$J$5:$J$504,0))<TODAY(),"返却遅れ","貸出中"))) -> 貸出中 | G6: =IF($A6="","",IF(ISNA(MATCH($A6,貸出記録!$J$5:$J$504,0)),"",INDEX(貸出記録!$D$5:$D$504,MATCH($A6,貸出記録!$J$5:$J$504,0)))) -> 高橋 | H6: =IF($A6="","",IF(ISNA(MATCH($A6,貸出記録!$J$5:$J$504,0)),"",INDEX(貸出記録!$F$5:$F$504,MATCH($A6,貸出記録!$J$5:$J$504,0)))) -> 46382
A7: TRP-01 | B7: ビデオ三脚 | C7: （型番） | D7: 三脚 | E7: 機材庫B | F7: =IF($A7="","",IF(ISNA(MATCH($A7,貸出記録!$J$5:$J$504,0)),"貸出可",IF(INDEX(貸出記録!$F$5:$F$504,MATCH($A7,貸出記録!$J$5:$J$504,0))<TODAY(),"返却遅れ","貸出中"))) -> 貸出可 | G7: =IF($A7="","",IF(ISNA(MATCH($A7,貸出記録!$J$5:$J$504,0)),"",INDEX(貸出記録!$D$5:$D$504,MATCH($A7,貸出記録!$J$5:$J$504,0)))) | H7: =IF($A7="","",IF(ISNA(MATCH($A7,貸出記録!$J$5:$J$504,0)),"",INDEX(貸出記録!$F$5:$F$504,MATCH($A7,貸出記録!$J$5:$J$504,0))))
A8: MIC-01 | B8: ワイヤレスマイク | C8: （型番） | D8: 音声 | E8: 機材庫A 棚3 | F8: =IF($A8="","",IF(ISNA(MATCH($A8,貸出記録!$J$5:$J$504,0)),"貸出可",IF(INDEX(貸出記録!$F$5:$F$504,MATCH($A8,貸出記録!$J$5:$J$504,0))<TODAY(),"返却遅れ","貸出中"))) -> 返却遅れ | G8: =IF($A8="","",IF(ISNA(MATCH($A8,貸出記録!$J$5:$J$504,0)),"",INDEX(貸出記録!$D$5:$D$504,MATCH($A8,貸出記録!$J$5:$J$504,0)))) -> 鈴木 | H8: =IF($A8="","",IF(ISNA(MATCH($A8,貸出記録!$J$5:$J$504,0)),"",INDEX(貸出記録!$F$5:$F$504,MATCH($A8,貸出記録!$J$5:$J$504,0)))) -> 46284
A9: PC-01 | B9: ノートPC | C9: （型番） | D9: PC | E9: 総務キャビネット | F9: =IF($A9="","",IF(ISNA(MATCH($A9,貸出記録!$J$5:$J$504,0)),"貸出可",IF(INDEX(貸出記録!$F$5:$F$504,MATCH($A9,貸出記録!$J$5:$J$504,0))<TODAY(),"返却遅れ","貸出中"))) -> 貸出可 | G9: =IF($A9="","",IF(ISNA(MATCH($A9,貸出記録!$J$5:$J$504,0)),"",INDEX(貸出記録!$D$5:$D$504,MATCH($A9,貸出記録!$J$5:$J$504,0)))) | H9: =IF($A9="","",IF(ISNA(MATCH($A9,貸出記録!$J$5:$J$504,0)),"",INDEX(貸出記録!$F$5:$F$504,MATCH($A9,貸出記録!$J$5:$J$504,0))))
F10: =IF($A10="","",IF(ISNA(MATCH($A10,貸出記録!$J$5:$J$504,0)),"貸出可",IF(INDEX(貸出記録!$F$5:$F$504,MATCH($A10,貸出記録!$J$5:$J$504,0))<TODAY(),"返却遅れ","貸出中"))) | G10: =IF($A10="","",IF(ISNA(MATCH($A10,貸出記録!$J$5:$J$504,0)),"",INDEX(貸出記録!$D$5:$D$504,MATCH($A10,貸出記録!$J$5:$J$504,0)))) | H10: =IF($A10="","",IF(ISNA(MATCH($A10,貸出記録!$J$5:$J$504,0)),"",INDEX(貸出記録!$F$5:$F$504,MATCH($A10,貸出記録!$J$5:$J$504,0))))
F11: =IF($A11="","",IF(ISNA(MATCH($A11,貸出記録!$J$5:$J$504,0)),"貸出可",IF(INDEX(貸出記録!$F$5:$F$504,MATCH($A11,貸出記録!$J$5:$J$504,0))<TODAY(),"返却遅れ","貸出中"))) | G11: =IF($A11="","",IF(ISNA(MATCH($A11,貸出記録!$J$5:$J$504,0)),"",INDEX(貸出記録!$D$5:$D$504,MATCH($A11,貸出記録!$J$5:$J$504,0)))) | H11: =IF($A11="","",IF(ISNA(MATCH($A11,貸出記録!$J$5:$J$504,0)),"",INDEX(貸出記録!$F$5:$F$504,MATCH($A11,貸出記録!$J$5:$J$504,0))))
F12: =IF($A12="","",IF(ISNA(MATCH($A12,貸出記録!$J$5:$J$504,0)),"貸出可",IF(INDEX(貸出記録!$F$5:$F$504,MATCH($A12,貸出記録!$J$5:$J$504,0))<TODAY(),"返却遅れ","貸出中"))) | G12: =IF($A12="","",IF(ISNA(MATCH($A12,貸出記録!$J$5:$J$504,0)),"",INDEX(貸出記録!$D$5:$D$504,MATCH($A12,貸出記録!$J$5:$J$504,0)))) | H12: =IF($A12="","",IF(ISNA(MATCH($A12,貸出記録!$J$5:$J$504,0)),"",INDEX(貸出記録!$F$5:$F$504,MATCH($A12,貸出記録!$J$5:$J$504,0))))
F13: =IF($A13="","",IF(ISNA(MATCH($A13,貸出記録!$J$5:$J$504,0)),"貸出可",IF(INDEX(貸出記録!$F$5:$F$504,MATCH($A13,貸出記録!$J$5:$J$504,0))<TODAY(),"返却遅れ","貸出中"))) | G13: =IF($A13="","",IF(ISNA(MATCH($A13,貸出記録!$J$5:$J$504,0)),"",INDEX(貸出記録!$D$5:$D$504,MATCH($A13,貸出記録!$J$5:$J$504,0)))) | H13: =IF($A13="","",IF(ISNA(MATCH($A13,貸出記録!$J$5:$J$504,0)),"",INDEX(貸出記録!$F$5:$F$504,MATCH($A13,貸出記録!$J$5:$J$504,0))))
F14: =IF($A14="","",IF(ISNA(MATCH($A14,貸出記録!$J$5:$J$504,0)),"貸出可",IF(INDEX(貸出記録!$F$5:$F$504,MATCH($A14,貸出記録!$J$5:$J$504,0))<TODAY(),"返却遅れ","貸出中"))) | G14: =IF($A14="","",IF(ISNA(MATCH($A14,貸出記録!$J$5:$J$504,0)),"",INDEX(貸出記録!$D$5:$D$504,MATCH($A14,貸出記録!$J$5:$J$504,0)))) | H14: =IF($A14="","",IF(ISNA(MATCH($A14,貸出記録!$J$5:$J$504,0)),"",INDEX(貸出記録!$F$5:$F$504,MATCH($A14,貸出記録!$J$5:$J$504,0))))
F15: =IF($A15="","",IF(ISNA(MATCH($A15,貸出記録!$J$5:$J$504,0)),"貸出可",IF(INDEX(貸出記録!$F$5:$F$504,MATCH($A15,貸出記録!$J$5:$J$504,0))<TODAY(),"返却遅れ","貸出中"))) | G15: =IF($A15="","",IF(ISNA(MATCH($A15,貸出記録!$J$5:$J$504,0)),"",INDEX(貸出記録!$D$5:$D$504,MATCH($A15,貸出記録!$J$5:$J$504,0)))) | H15: =IF($A15="","",IF(ISNA(MATCH($A15,貸出記録!$J$5:$J$504,0)),"",INDEX(貸出記録!$F$5:$F$504,MATCH($A15,貸出記録!$J$5:$J$504,0))))
F16: =IF($A16="","",IF(ISNA(MATCH($A16,貸出記録!$J$5:$J$504,0)),"貸出可",IF(INDEX(貸出記録!$F$5:$F$504,MATCH($A16,貸出記録!$J$5:$J$504,0))<TODAY(),"返却遅れ","貸出中"))) | G16: =IF($A16="","",IF(ISNA(MATCH($A16,貸出記録!$J$5:$J$504,0)),"",INDEX(貸出記録!$D$5:$D$504,MATCH($A16,貸出記録!$J$5:$J$504,0)))) | H16: =IF($A16="","",IF(ISNA(MATCH($A16,貸出記録!$J$5:$J$504,0)),"",INDEX(貸出記録!$F$5:$F$504,MATCH($A16,貸出記録!$J$5:$J$504,0))))
F17: =IF($A17="","",IF(ISNA(MATCH($A17,貸出記録!$J$5:$J$504,0)),"貸出可",IF(INDEX(貸出記録!$F$5:$F$504,MATCH($A17,貸出記録!$J$5:$J$504,0))<TODAY(),"返却遅れ","貸出中"))) | G17: =IF($A17="","",IF(ISNA(MATCH($A17,貸出記録!$J$5:$J$504,0)),"",INDEX(貸出記録!$D$5:$D$504,MATCH($A17,貸出記録!$J$5:$J$504,0)))) | H17: =IF($A17="","",IF(ISNA(MATCH($A17,貸出記録!$J$5:$J$504,0)),"",INDEX(貸出記録!$F$5:$F$504,MATCH($A17,貸出記録!$J$5:$J$504,0))))
F18: =IF($A18="","",IF(ISNA(MATCH($A18,貸出記録!$J$5:$J$504,0)),"貸出可",IF(INDEX(貸出記録!$F$5:$F$504,MATCH($A18,貸出記録!$J$5:$J$504,0))<TODAY(),"返却遅れ","貸出中"))) | G18: =IF($A18="","",IF(ISNA(MATCH($A18,貸出記録!$J$5:$J$504,0)),"",INDEX(貸出記録!$D$5:$D$504,MATCH($A18,貸出記録!$J$5:$J$504,0)))) | H18: =IF($A18="","",IF(ISNA(MATCH($A18,貸出記録!$J$5:$J$504,0)),"",INDEX(貸出記録!$F$5:$F$504,MATCH($A18,貸出記録!$J$5:$J$504,0))))
F19: =IF($A19="","",IF(ISNA(MATCH($A19,貸出記録!$J$5:$J$504,0)),"貸出可",IF(INDEX(貸出記録!$F$5:$F$504,MATCH($A19,貸出記録!$J$5:$J$504,0))<TODAY(),"返却遅れ","貸出中"))) | G19: =IF($A19="","",IF(ISNA(MATCH($A19,貸出記録!$J$5:$J$504,0)),"",INDEX(貸出記録!$D$5:$D$504,MATCH($A19,貸出記録!$J$5:$J$504,0)))) | H19: =IF($A19="","",IF(ISNA(MATCH($A19,貸出記録!$J$5:$J$504,0)),"",INDEX(貸出記録!$F$5:$F$504,MATCH($A19,貸出記録!$J$5:$J$504,0))))
F20: =IF($A20="","",IF(ISNA(MATCH($A20,貸出記録!$J$5:$J$504,0)),"貸出可",IF(INDEX(貸出記録!$F$5:$F$504,MATCH($A20,貸出記録!$J$5:$J$504,0))<TODAY(),"返却遅れ","貸出中"))) | G20: =IF($A20="","",IF(ISNA(MATCH($A20,貸出記録!$J$5:$J$504,0)),"",INDEX(貸出記録!$D$5:$D$504,MATCH($A20,貸出記録!$J$5:$J$504,0)))) | H20: =IF($A20="","",IF(ISNA(MATCH($A20,貸出記録!$J$5:$J$504,0)),"",INDEX(貸出記録!$F$5:$F$504,MATCH($A20,貸出記録!$J$5:$J$504,0))))
F21: =IF($A21="","",IF(ISNA(MATCH($A21,貸出記録!$J$5:$J$504,0)),"貸出可",IF(INDEX(貸出記録!$F$5:$F$504,MATCH($A21,貸出記録!$J$5:$J$504,0))<TODAY(),"返却遅れ","貸出中"))) | G21: =IF($A21="","",IF(ISNA(MATCH($A21,貸出記録!$J$5:$J$504,0)),"",INDEX(貸出記録!$D$5:$D$504,MATCH($A21,貸出記録!$J$5:$J$504,0)))) | H21: =IF($A21="","",IF(ISNA(MATCH($A21,貸出記録!$J$5:$J$504,0)),"",INDEX(貸出記録!$F$5:$F$504,MATCH($A21,貸出記録!$J$5:$J$504,0))))
... F204: =IF($A204="","",IF(ISNA(MATCH($A204,貸出記録!$J$5:$J$504,0)),"貸出可",IF(INDEX(貸出記録!$F$5:$F$504,MATCH($A204,貸出記録!$J$5:$J$504,0))<TODAY(),"返却遅れ","貸出中"))) | G204: =IF($A204="","",IF(ISNA(MATCH($A204,貸出記録!$J$5:$J$504,0)),"",INDEX(貸出記録!$D$5:$D$504,MATCH($A204,貸出記録!$J$5:$J$504,0)))) | H204: =IF($A204="","",IF(ISNA(MATCH($A204,貸出記録!$J$5:$J$504,0)),"",INDEX(貸出記録!$F$5:$F$504,MATCH($A204,貸出記録!$J$5:$J$504,0))))

Sheet 貸出記録
A1: 貸出記録
A2: 貸すときに1行追加し、返ってきたら返却日を入れます。返却予定日を過ぎて返却日が空の行は赤くなります。
A4: 貸出日 | B4: 管理番号 | C4: 品名 | D4: 借りた人 | E4: 用途・案件 | F4: 返却予定日 | G4: 返却日 | H4: 確認者 | I4: メモ | J4: （自動）未返却
A5: 46266 | B5: CAM-01 | C5: =IF($B5="","",IFERROR(INDEX(備品台帳!$B$5:$B$204,MATCH($B5,備品台帳!$A$5:$A$204,0)),"（台帳に無い番号）")) -> シネマカメラ | D5: 佐藤 | E5: 〇〇社 PV 撮影 | F5: 46268 | G5: 46268 | H5: 田中 | J5: =IF(AND($B5<>"",$G5=""),$B5,"")
A6: 46283 | B6: MIC-01 | C6: =IF($B6="","",IFERROR(INDEX(備品台帳!$B$5:$B$204,MATCH($B6,備品台帳!$A$5:$A$204,0)),"（台帳に無い番号）")) -> ワイヤレスマイク | D6: 鈴木 | E6: 社内イベント | F6: 46284 | J6: =IF(AND($B6<>"",$G6=""),$B6,"") -> MIC-01
A7: 46289 | B7: LEN-01 | C7: =IF($B7="","",IFERROR(INDEX(備品台帳!$B$5:$B$204,MATCH($B7,備品台帳!$A$5:$A$204,0)),"（台帳に無い番号）")) -> 標準ズームレンズ | D7: 高橋 | E7: △△ 展示会 | F7: 46382 | J7: =IF(AND($B7<>"",$G7=""),$B7,"") -> LEN-01
C8: =IF($B8="","",IFERROR(INDEX(備品台帳!$B$5:$B$204,MATCH($B8,備品台帳!$A$5:$A$204,0)),"（台帳に無い番号）")) | J8: =IF(AND($B8<>"",$G8=""),$B8,"")
C9: =IF($B9="","",IFERROR(INDEX(備品台帳!$B$5:$B$204,MATCH($B9,備品台帳!$A$5:$A$204,0)),"（台帳に無い番号）")) | J9: =IF(AND($B9<>"",$G9=""),$B9,"")
C10: =IF($B10="","",IFERROR(INDEX(備品台帳!$B$5:$B$204,MATCH($B10,備品台帳!$A$5:$A$204,0)),"（台帳に無い番号）")) | J10: =IF(AND($B10<>"",$G10=""),$B10,"")
C11: =IF($B11="","",IFERROR(INDEX(備品台帳!$B$5:$B$204,MATCH($B11,備品台帳!$A$5:$A$204,0)),"（台帳に無い番号）")) | J11: =IF(AND($B11<>"",$G11=""),$B11,"")
C12: =IF($B12="","",IFERROR(INDEX(備品台帳!$B$5:$B$204,MATCH($B12,備品台帳!$A$5:$A$204,0)),"（台帳に無い番号）")) | J12: =IF(AND($B12<>"",$G12=""),$B12,"")
C13: =IF($B13="","",IFERROR(INDEX(備品台帳!$B$5:$B$204,MATCH($B13,備品台帳!$A$5:$A$204,0)),"（台帳に無い番号）")) | J13: =IF(AND($B13<>"",$G13=""),$B13,"")
C14: =IF($B14="","",IFERROR(INDEX(備品台帳!$B$5:$B$204,MATCH($B14,備品台帳!$A$5:$A$204,0)),"（台帳に無い番号）")) | J14: =IF(AND($B14<>"",$G14=""),$B14,"")
C15: =IF($B15="","",IFERROR(INDEX(備品台帳!$B$5:$B$204,MATCH($B15,備品台帳!$A$5:$A$204,0)),"（台帳に無い番号）")) | J15: =IF(AND($B15<>"",$G15=""),$B15,"")
C16: =IF($B16="","",IFERROR(INDEX(備品台帳!$B$5:$B$204,MATCH($B16,備品台帳!$A$5:$A$204,0)),"（台帳に無い番号）")) | J16: =IF(AND($B16<>"",$G16=""),$B16,"")
C17: =IF($B17="","",IFERROR(INDEX(備品台帳!$B$5:$B$204,MATCH($B17,備品台帳!$A$5:$A$204,0)),"（台帳に無い番号）")) | J17: =IF(AND($B17<>"",$G17=""),$B17,"")
C18: =IF($B18="","",IFERROR(INDEX(備品台帳!$B$5:$B$204,MATCH($B18,備品台帳!$A$5:$A$204,0)),"（台帳に無い番号）")) | J18: =IF(AND($B18<>"",$G18=""),$B18,"")
C19: =IF($B19="","",IFERROR(INDEX(備品台帳!$B$5:$B$204,MATCH($B19,備品台帳!$A$5:$A$204,0)),"（台帳に無い番号）")) | J19: =IF(AND($B19<>"",$G19=""),$B19,"")
... C504: =IF($B504="","",IFERROR(INDEX(備品台帳!$B$5:$B$204,MATCH($B504,備品台帳!$A$5:$A$204,0)),"（台帳に無い番号）")) | J504: =IF(AND($B504<>"",$G504=""),$B504,"")
